BEGIN:VCALENDAR
VERSION:2.0
PRODID:icalendar-ruby
CALSCALE:GREGORIAN
METHOD:PUBLISH
BEGIN:VEVENT
DTSTAMP:20260425T120145Z
UID:61-524879@audubonchurch.org
DTSTART:20260506T223000Z
DTEND:20260507T010000Z
CLASS:PUBLIC
CREATED:20260424T143547
DESCRIPTION:
LAST-MODIFIED:20260424T143547
LOCATION:Audubon Park
SUMMARY:Fellowship Cookout
URL;VALUE=URI:https://audubonchurch.org/events/fellowship-cookout--61/2026-
 05-06
END:VEVENT
END:VCALENDAR
