BEGIN:VCALENDAR
VERSION:2.0
PRODID:icalendar-ruby
CALSCALE:GREGORIAN
METHOD:PUBLISH
BEGIN:VEVENT
DTSTAMP:20260425T115326Z
UID:60-502590@audubonchurch.org
DTSTART:20260428T233000Z
DTEND:20260429T010000Z
CLASS:PUBLIC
CREATED:20260414T154802
DESCRIPTION:Digging Deeper is an every-other-week discipleship study with 
 the goal of developing godly individuals oriented around the person of Ch
 rist. We want to provide ADBC men and women with a regular opportunity t
 o encourage one another in the context of mutually sharpening\, gospel-ori
 ented relationships. Over the course of the next year\, we plan on studyin
 g Wayne Grudem's book\, Systematic Theology. We will gather together in t
 he Hospitality Room at ADBC. If you are interested in finding out more in
 formation about Digging Deeper\, please contact the church office. 
LAST-MODIFIED:20260414T154802
LOCATION:Audubon Drive Bible Church
SUMMARY:Digging Deeper
URL;VALUE=URI:https://audubonchurch.org/events/digging-deeper--60/2026-04-2
 8
ATTACH;FILENAME=Digging-Deeper---Updated.jpg;FMTTYPE=image/jpeg:https://dq5
 pwpg1q8ru0.cloudfront.net/2026/04/14/20/48/02/f9ffda04-2856-467b-99c9-acd5
 b1f83764/Digging-Deeper---Updated.jpg
END:VEVENT
END:VCALENDAR
