BEGIN:VCALENDAR
VERSION:2.0
PRODID:icalendar-ruby
CALSCALE:GREGORIAN
METHOD:PUBLISH
BEGIN:VEVENT
DTSTAMP:20260423T213337Z
UID:24-522926@audubonchurch.org
DTSTART:20260828T233000Z
DTEND:20260829T013000Z
CLASS:PUBLIC
CREATED:20260423T160320
DESCRIPTION:The College &amp\; Career Ministry at ADBC is specifically desi
 gned for young adults (ages 18-25)\, and is an opportunity to enjoy an e
 vening of fellowship around the gospel\, discussing the ways in which the
  gospel shapes our personal lives\, as well as the ways in which we can en
 gage our current culture with the good news of Jesus Christ. We hope you c
 an join us! If you have any questions about this particular ministry\, ple
 ase contact the church office.
LAST-MODIFIED:20260423T160320
LOCATION:Chris & Kristine Kiiskinen's Home
SUMMARY:College & Career
URL;VALUE=URI:https://audubonchurch.org/events/college-career/2026-08-28
ATTACH;FILENAME=College%26-Career---Updated.jpg;FMTTYPE=image/jpeg:https://
 dq5pwpg1q8ru0.cloudfront.net/2025/02/13/22/56/24/43d69dce-c59f-41f6-b7af-e
 8c250cbcd89/College%2526-Career---Updated.jpg
END:VEVENT
END:VCALENDAR
